BEGIN:VCALENDAR
VERSION:2.0
PRODID:-//Brigid's Way - ECPv4.4.4//NONSGML v1.0//EN
CALSCALE:GREGORIAN
METHOD:PUBLISH
X-WR-CALNAME:Brigid's Way
X-ORIGINAL-URL:http://brigidsway.ie
X-WR-CALDESC:Events for Brigid's Way
BEGIN:VEVENT
DTSTART;VALUE=DATE:20180714
DTEND;VALUE=DATE:20180722
DTSTAMP:20171024T034142
CREATED:20170612T094850Z
LAST-MODIFIED:20171018T184309Z
UID:954-1531526400-1532303999@brigidsway.ie
SUMMARY:Walk a Day of Brigid's Way (Part of the 9 Day Pilgrimage Walk 2018)
DESCRIPTION:Day 1Â  Saturday 14th July 2018Â  -Â  Â  Faughart to Dundalk\n\nDay 9Â Â Sunday 22nd July 2018\nPollardstown Fen to Kildare town via the Curragh (See Route)\nRegistration: Â In Pollardstown Fen Carpark from 10.00am - 10.30am\n \n\nStarting with a Ceremonial Circle at 10am at Pollardstown FenÂ  The Walk will start at 10.30am\n\nWe will visit the Fire Temple\, Cathedral and the Two Holy Wells and finish in\n\nthe Solas Bhride Centre\n\n \n\nRegistrationÂ for the pilgrimage starting on 22nd July will take place between 10am - 10.30am at Pollardstown Fen Carpark.\n\nPeople are advised to park in Kildare town and get a taxi out to Pollardstown Fen or drive to Pollardstown and get a taxi back there after the pilgrimage\n\n \n\nCost: Â Donation of â‚¬10Â (If you wish you can pay â‚¬10.50 by Paypal by clicking hereÂ and using the email addressÂ info@brigidsway.ieÂ )\n\nFor further details please email info@brigidsway.ie\n\n \n\nWhy not join us for a Celebration meal in Silken Thomas\, Kildare on Sunday 22nd July @ 5.30pm
URL:http://brigidsway.ie/event/walk-a-day-of-brigids-way-part-of-the-9-day-pilgrimage-walk-2017/
END:VEVENT
END:VCALENDAR